BEGIN:VCALENDAR
VERSION:2.0
PRODID:-//hacksw/handcal//NONSGML v1.0//EN
BEGIN:VEVENT
SUMMARY:plateau minibad poussin
UID:13672790-a4f3-41f4-b19d-4d52998ff11a
DTSTART:20260502T220000Z
DTEND:20260503T220000Z
LOCATION:Localisation complexe Marc Gouttheraut.  bourbon lancy
CATEGORIES:Sportif
STATUS:
URL;VALUE=URI:https://www.badminton71.com/evenements/2026/05/03/plateau-minibad-poussin-2440284
END:VEVENT
END:VCALENDAR
