BEGIN:VCALENDAR
VERSION:2.0
PRODID:-//hacksw/handcal//NONSGML v1.0//EN
BEGIN:VEVENT
SUMMARY:reunion du conseil d'administration (en visio)
UID:1e68fe83-8e66-4be5-929b-6c274c8f226a
DTSTART:20260427T173000Z
DTEND:20260427T190000Z
LOCATION:Localisation   
CATEGORIES:Administratif
STATUS:
URL;VALUE=URI:https://www.badminton71.com/evenements/2026/04/27/reunion-du-conseil-dadministration-en-visio-2440275
END:VEVENT
END:VCALENDAR
