BEGIN:VCALENDAR
VERSION:2.0
PRODID:-//hacksw/handcal//NONSGML v1.0//EN
BEGIN:VEVENT
SUMMARY:festibad st marcel
UID:d9813d78-5493-4559-b3f4-492ad8a84072
DTSTART:20260425T220000Z
DTEND:20260426T220000Z
LOCATION:Localisation Comite Departemental de Judo  saint marcel
CATEGORIES:Festif
STATUS:
URL;VALUE=URI:https://www.badminton71.com/evenements/2026/04/26/festibad-st-marcel-2440354
END:VEVENT
END:VCALENDAR
