BEGIN:VCALENDAR
VERSION:2.0
PRODID:-//hacksw/handcal//NONSGML v1.0//EN
BEGIN:VEVENT
SUMMARY:bad'elles
UID:9f96b1ae-d0a0-4bea-8375-75fd042a5d49
DTSTART:20260423T220000Z
DTEND:20260424T220000Z
LOCATION:Localisation les plumes couchoises 71490 
CATEGORIES:Festif
STATUS:
URL;VALUE=URI:https://www.badminton71.com/evenements/2026/04/24/badelles-2440282
END:VEVENT
END:VCALENDAR
